BEGIN:VCALENDAR
VERSION:2.0
PRODID:-//Latinx - ECPv6.15.14//NONSGML v1.0//EN
CALSCALE:GREGORIAN
METHOD:PUBLISH
X-WR-CALNAME:Latinx
X-ORIGINAL-URL:https://latinximmigrantsofiowa.org
X-WR-CALDESC:Events for Latinx
REFRESH-INTERVAL;VALUE=DURATION:PT1H
X-Robots-Tag:noindex
X-PUBLISHED-TTL:PT1H
BEGIN:VTIMEZONE
TZID:America/Chicago
BEGIN:DAYLIGHT
TZOFFSETFROM:-0600
TZOFFSETTO:-0500
TZNAME:CDT
DTSTART:20230312T080000
END:DAYLIGHT
BEGIN:STANDARD
TZOFFSETFROM:-0500
TZOFFSETTO:-0600
TZNAME:CST
DTSTART:20231105T070000
END:STANDARD
BEGIN:DAYLIGHT
TZOFFSETFROM:-0600
TZOFFSETTO:-0500
TZNAME:CDT
DTSTART:20240310T080000
END:DAYLIGHT
BEGIN:STANDARD
TZOFFSETFROM:-0500
TZOFFSETTO:-0600
TZNAME:CST
DTSTART:20241103T070000
END:STANDARD
BEGIN:DAYLIGHT
TZOFFSETFROM:-0600
TZOFFSETTO:-0500
TZNAME:CDT
DTSTART:20250309T080000
END:DAYLIGHT
BEGIN:STANDARD
TZOFFSETFROM:-0500
TZOFFSETTO:-0600
TZNAME:CST
DTSTART:20251102T070000
END:STANDARD
END:VTIMEZONE
BEGIN:VEVENT
DTSTART;TZID=America/Chicago:20240501T050000
DTEND;TZID=America/Chicago:20240501T063000
DTSTAMP:20260423T080139
CREATED:20251111T163317Z
LAST-MODIFIED:20251111T163317Z
UID:11708-1714539600-1714545000@latinximmigrantsofiowa.org
SUMMARY:VIGILIA POR LA DIGINIDAD HUMANA
DESCRIPTION:VIGILIA POR LA DIGNIDAD  MAYO 1 2024\nBANDERAS SOLO DE USA VELAS DE BATERIA NO PROPAGANDA DE NINGUN TIPO  \nTE ESPERAMOS DESDE LAS 6PM EN EL CAPITOLIO \n 
URL:https://latinximmigrantsofiowa.org/event/vigilia-por-la-diginidad-humana/
END:VEVENT
END:VCALENDAR