BEGIN:VCALENDAR
VERSION:2.0
PRODID:-//Latinx - ECPv6.15.14//NONSGML v1.0//EN
CALSCALE:GREGORIAN
METHOD:PUBLISH
X-ORIGINAL-URL:https://latinximmigrantsofiowa.org
X-WR-CALDESC:Events for Latinx
REFRESH-INTERVAL;VALUE=DURATION:PT1H
X-Robots-Tag:noindex
X-PUBLISHED-TTL:PT1H
BEGIN:VTIMEZONE
TZID:America/Chicago
BEGIN:DAYLIGHT
TZOFFSETFROM:-0600
TZOFFSETTO:-0500
TZNAME:CDT
DTSTART:20240310T080000
END:DAYLIGHT
BEGIN:STANDARD
TZOFFSETFROM:-0500
TZOFFSETTO:-0600
TZNAME:CST
DTSTART:20241103T070000
END:STANDARD
BEGIN:DAYLIGHT
TZOFFSETFROM:-0600
TZOFFSETTO:-0500
TZNAME:CDT
DTSTART:20250309T080000
END:DAYLIGHT
BEGIN:STANDARD
TZOFFSETFROM:-0500
TZOFFSETTO:-0600
TZNAME:CST
DTSTART:20251102T070000
END:STANDARD
BEGIN:DAYLIGHT
TZOFFSETFROM:-0600
TZOFFSETTO:-0500
TZNAME:CDT
DTSTART:20260308T080000
END:DAYLIGHT
BEGIN:STANDARD
TZOFFSETFROM:-0500
TZOFFSETTO:-0600
TZNAME:CST
DTSTART:20261101T070000
END:STANDARD
END:VTIMEZONE
BEGIN:VEVENT
DTSTART;TZID=America/Chicago:20251102T160000
DTEND;TZID=America/Chicago:20251102T183000
DTSTAMP:20260421T184142
CREATED:20251111T163910Z
LAST-MODIFIED:20251111T164613Z
UID:12855-1762099200-1762108200@latinximmigrantsofiowa.org
SUMMARY:Dia de los Muertos-Day of the Dead
DESCRIPTION:Join us to celebrate the Day of the Dead!\nLatinx Immigrants of Iowa and the Des Moines Public Library invite you to our 5th Annual Day of the Dead Celebration on Saturday\, November 2\, from 4:00 to 6:30 p.m. at the Des Moines Public Library\, 1000 Grand Avenue.\nCome and experience a vibrant celebration of life and remembrance!\nEnjoy beautiful traditional altars (ofrendas)\, colorful paper flowers\, catrinas and catrines\, and other cultural elements created by our community volunteers.\n✨ Enjoy tamales\, pan de muerto\, and a delicious traditional drink while supplies last!\n💃 Enjoy special folkloric dance performances by Danza Folklorica del Oeste and Folklor Mexicano Stylo y Movimiento.\n🤝 Local organizations will also be present to share information and community resources.\nFree admission! Everyone is welcome.\nCelebrate our culture\, honor our loved ones\, and enjoy one of the most meaningful traditions from Latin America.\n📅 Sunday\, November 2\n🕓 4:00 p.m. – 6:30 p.m.\n📍 Des Moines Public Library – 1000 Grand Ave\, Des Moines\, IA\nPresented by Latinx Immigrants of Iowa in collaboration with the Des Moines Public Library
URL:https://latinximmigrantsofiowa.org/event/dia-de-los-muertos-day-of-the-dead/
ATTACH;FMTTYPE=image/png:https://latinximmigrantsofiowa.org/wp-content/uploads/2025/10/nmkloiiiiioiio.png
END:VEVENT
BEGIN:VEVENT
DTSTART;TZID=America/Chicago:20251118T090000
DTEND;TZID=America/Chicago:20251118T210000
DTSTAMP:20260421T184142
CREATED:20251108T182425Z
LAST-MODIFIED:20251109T220855Z
UID:12827-1763456400-1763499600@latinximmigrantsofiowa.org
SUMMARY:Applebee's Fundraiser for Latinx Immigrants of Iowa
DESCRIPTION:Join us on Tuesday\, November 18\, 2025\, for a fundraiser at Applebee’s in support of Latinx Immigrants of Iowa.\nMention the organization to your server and 25% of your meal will support free community programs\, health clinics\, English classes\, and cultural events that bring us together. \n📍 Applebee’s – 3900 Merle Hay Road\, Des Moines\, IA 50310\n🕓 All Day – November 18\, 2025 \n  \n \n  \n  \n  \n\n📍 View location on Google Maps
URL:https://latinximmigrantsofiowa.org/event/applebees-fundraiser-for-latinx-immigrants-of-iowa/
END:VEVENT
END:VCALENDAR