BEGIN:VCALENDAR
VERSION:2.0
PRODID:-//Latinx - ECPv6.15.14//NONSGML v1.0//EN
CALSCALE:GREGORIAN
METHOD:PUBLISH
X-WR-CALNAME:Latinx
X-ORIGINAL-URL:https://latinximmigrantsofiowa.org
X-WR-CALDESC:Events for Latinx
REFRESH-INTERVAL;VALUE=DURATION:PT1H
X-Robots-Tag:noindex
X-PUBLISHED-TTL:PT1H
BEGIN:VTIMEZONE
TZID:America/Chicago
BEGIN:DAYLIGHT
TZOFFSETFROM:-0600
TZOFFSETTO:-0500
TZNAME:CDT
DTSTART:20220313T080000
END:DAYLIGHT
BEGIN:STANDARD
TZOFFSETFROM:-0500
TZOFFSETTO:-0600
TZNAME:CST
DTSTART:20221106T070000
END:STANDARD
BEGIN:DAYLIGHT
TZOFFSETFROM:-0600
TZOFFSETTO:-0500
TZNAME:CDT
DTSTART:20230312T080000
END:DAYLIGHT
BEGIN:STANDARD
TZOFFSETFROM:-0500
TZOFFSETTO:-0600
TZNAME:CST
DTSTART:20231105T070000
END:STANDARD
BEGIN:DAYLIGHT
TZOFFSETFROM:-0600
TZOFFSETTO:-0500
TZNAME:CDT
DTSTART:20240310T080000
END:DAYLIGHT
BEGIN:STANDARD
TZOFFSETFROM:-0500
TZOFFSETTO:-0600
TZNAME:CST
DTSTART:20241103T070000
END:STANDARD
END:VTIMEZONE
BEGIN:VEVENT
DTSTART;TZID=America/Chicago:20230128T100000
DTEND;TZID=America/Chicago:20230128T150000
DTSTAMP:20260424T080022
CREATED:20251111T163317Z
LAST-MODIFIED:20251111T163317Z
UID:9868-1674900000-1674918000@latinximmigrantsofiowa.org
SUMMARY:CLINICA DE VACUNACION
DESCRIPTION:Su salud es primero clinica de vacunacion contra la influenza/griperegistrese en lineahttps://www.immunizepolk.com/…/es/client/registration…Latinx Immigrants of Iowa en colaboracion con RIVA Iowa y Polk County Health Department te invitan este Sabado 28 de Enero de 10;00AM a 3:00PM en 800 Euclid Ave Des Moines IA 50313No cita\, No ID y no aseguranza.Todos son bienvenidos!Mas informes 515-421-6773#comunidad #civismo #migracion #cultura #desmoines #iowa #aroundiowa #likeforlike #iowacity #latinximmigrantsofiowa #fight4all11million #photooftheday #perry #marshalltown #denison #stormlake #latinx
URL:https://latinximmigrantsofiowa.org/event/clinica-de-vacunacion/
LOCATION:Latinx Immigrants of Iowa\, 800 Euclid Ave\, Des Moines\, Iowa\, 50313
END:VEVENT
END:VCALENDAR